BEGIN:VCALENDAR
VERSION:2.0
PRODID:-//Drentse Literaire Agenda - ECPv6.15.13//NONSGML v1.0//EN
CALSCALE:GREGORIAN
METHOD:PUBLISH
X-ORIGINAL-URL:https://www.drentseliteraireagenda.nl
X-WR-CALDESC:Evenementen voor Drentse Literaire Agenda
REFRESH-INTERVAL;VALUE=DURATION:PT1H
X-Robots-Tag:noindex
X-PUBLISHED-TTL:PT1H
BEGIN:VTIMEZONE
TZID:Europe/Helsinki
BEGIN:DAYLIGHT
TZOFFSETFROM:+0200
TZOFFSETTO:+0300
TZNAME:EEST
DTSTART:20250330T010000
END:DAYLIGHT
BEGIN:STANDARD
TZOFFSETFROM:+0300
TZOFFSETTO:+0200
TZNAME:EET
DTSTART:20251026T010000
END:STANDARD
BEGIN:DAYLIGHT
TZOFFSETFROM:+0200
TZOFFSETTO:+0300
TZNAME:EEST
DTSTART:20260329T010000
END:DAYLIGHT
BEGIN:STANDARD
TZOFFSETFROM:+0300
TZOFFSETTO:+0200
TZNAME:EET
DTSTART:20261025T010000
END:STANDARD
BEGIN:DAYLIGHT
TZOFFSETFROM:+0200
TZOFFSETTO:+0300
TZNAME:EEST
DTSTART:20270328T010000
END:DAYLIGHT
BEGIN:STANDARD
TZOFFSETFROM:+0300
TZOFFSETTO:+0200
TZNAME:EET
DTSTART:20271031T010000
END:STANDARD
END:VTIMEZONE
BEGIN:VEVENT
DTSTART;TZID=Europe/Helsinki:20260217T193000
DTEND;TZID=Europe/Helsinki:20260217T220000
DTSTAMP:20260424T170630
CREATED:20251209T180922Z
LAST-MODIFIED:20251209T180922Z
UID:2612-1771356600-1771365600@www.drentseliteraireagenda.nl
SUMMARY:'Ga lekker zélf in je kracht staan'\, een avond vol taalplezier met Japke-d. Bouma.
DESCRIPTION:Taalclichés zijn overal: op kantoor\, in de politiek en bij de kapper en vaak is het heel ergerlijk om naar te luisteren. Met veel humor bespreekt Japke-d. deze clichés en de ergste ‘jeukwoorden’\, zoals zij ze zelf noemt. \nJapke-d. publiceerde al veel boeken\, zoals ‘ Mag ik even iets tegen je aanhouden’ \, ‘Hoe vind je zélf dat het gaat’ en ‘ Wanneer ben je officieel een oude zak’. Haar laatste boek verscheen in oktober 2025: ‘Een vrouw als baas geeft alleen maar gezeik’. \nIn het voorprogramma treedt Marit Nygård op met haar sfeervolle luisterliedjes\, begeleid door haar pianiste Nienke.
URL:https://www.drentseliteraireagenda.nl/evenement/ga-lekker-zelf-in-je-kracht-staan-een-avond-vol-taalplezier-met-japke-d-bouma/
LOCATION:Facet\, Noorderplein 101\, Emmen\, Drenthe\, 7811 MG\, Netherlands
ATTACH;FMTTYPE=image/jpeg:https://www.drentseliteraireagenda.nl/wp-content/uploads/2025/12/IMG_5691-1.jpg
ORGANIZER;CN="Stichting Taalpodium Emmen (STEM)":MAILTO:marchienbrons@gmail.com
END:VEVENT
END:VCALENDAR