BEGIN:VCALENDAR
VERSION:2.0
PRODID:-//Drentse Literaire Agenda - ECPv6.15.13//NONSGML v1.0//EN
CALSCALE:GREGORIAN
METHOD:PUBLISH
X-ORIGINAL-URL:https://www.drentseliteraireagenda.nl
X-WR-CALDESC:Evenementen voor Drentse Literaire Agenda
REFRESH-INTERVAL;VALUE=DURATION:PT1H
X-Robots-Tag:noindex
X-PUBLISHED-TTL:PT1H
BEGIN:VTIMEZONE
TZID:Europe/Helsinki
BEGIN:DAYLIGHT
TZOFFSETFROM:+0200
TZOFFSETTO:+0300
TZNAME:EEST
DTSTART:20250330T010000
END:DAYLIGHT
BEGIN:STANDARD
TZOFFSETFROM:+0300
TZOFFSETTO:+0200
TZNAME:EET
DTSTART:20251026T010000
END:STANDARD
BEGIN:DAYLIGHT
TZOFFSETFROM:+0200
TZOFFSETTO:+0300
TZNAME:EEST
DTSTART:20260329T010000
END:DAYLIGHT
BEGIN:STANDARD
TZOFFSETFROM:+0300
TZOFFSETTO:+0200
TZNAME:EET
DTSTART:20261025T010000
END:STANDARD
BEGIN:DAYLIGHT
TZOFFSETFROM:+0200
TZOFFSETTO:+0300
TZNAME:EEST
DTSTART:20270328T010000
END:DAYLIGHT
BEGIN:STANDARD
TZOFFSETFROM:+0300
TZOFFSETTO:+0200
TZNAME:EET
DTSTART:20271031T010000
END:STANDARD
END:VTIMEZONE
BEGIN:VEVENT
DTSTART;TZID=Europe/Helsinki:20260221T140000
DTEND;TZID=Europe/Helsinki:20260221T160000
DTSTAMP:20260424T184621
CREATED:20260126T084229Z
LAST-MODIFIED:20260126T084229Z
UID:2872-1771682400-1771689600@www.drentseliteraireagenda.nl
SUMMARY:Lezing Ontaard
DESCRIPTION:In Ontaard volgt schrijfster Marion Bruinenberg het verhaal van Roelof\, die in 1925 Drenthe verlaat voor een nieuw leven in Canada. Wanneer zijn achterkleindochter honderd jaar later ontdekt dat hij spoorloos verdween\, reist zij hem achterna om zijn verhaal te ontrafelen. \nTijdens deze lezing verbindt Marion Bruinenberg geschiedenis en persoonlijk onderzoek met actuele thema’s als migratie\, pandemieën en maatschappelijke verandering. Met beeld- en archiefmateriaal nodigt zij het publiek uit om stil te staan bij vragen over identiteit\, verwachtingen en wat het betekent om opnieuw te beginnen. \nLocatie: Facet Klazienaveen\nKosten: Leden € 5\,- Niet-leden € 7\,50
URL:https://www.drentseliteraireagenda.nl/evenement/lezing-ontaard/
LOCATION:Facet\, Noorderplein 101\, Emmen\, Drenthe\, 7811 MG\, Netherlands
ATTACH;FMTTYPE=image/jpeg:https://www.drentseliteraireagenda.nl/wp-content/uploads/2026/01/694923fb6788c.jpg
ORGANIZER;CN="Facet":MAILTO:klantenservice@facet-emmen.nl
END:VEVENT
END:VCALENDAR