BEGIN:VCALENDAR
VERSION:2.0
PRODID:-//Drentse Literaire Agenda - ECPv6.15.13//NONSGML v1.0//EN
CALSCALE:GREGORIAN
METHOD:PUBLISH
X-ORIGINAL-URL:https://www.drentseliteraireagenda.nl
X-WR-CALDESC:Evenementen voor Drentse Literaire Agenda
REFRESH-INTERVAL;VALUE=DURATION:PT1H
X-Robots-Tag:noindex
X-PUBLISHED-TTL:PT1H
BEGIN:VTIMEZONE
TZID:Europe/Helsinki
BEGIN:DAYLIGHT
TZOFFSETFROM:+0200
TZOFFSETTO:+0300
TZNAME:EEST
DTSTART:20250330T010000
END:DAYLIGHT
BEGIN:STANDARD
TZOFFSETFROM:+0300
TZOFFSETTO:+0200
TZNAME:EET
DTSTART:20251026T010000
END:STANDARD
BEGIN:DAYLIGHT
TZOFFSETFROM:+0200
TZOFFSETTO:+0300
TZNAME:EEST
DTSTART:20260329T010000
END:DAYLIGHT
BEGIN:STANDARD
TZOFFSETFROM:+0300
TZOFFSETTO:+0200
TZNAME:EET
DTSTART:20261025T010000
END:STANDARD
BEGIN:DAYLIGHT
TZOFFSETFROM:+0200
TZOFFSETTO:+0300
TZNAME:EEST
DTSTART:20270328T010000
END:DAYLIGHT
BEGIN:STANDARD
TZOFFSETFROM:+0300
TZOFFSETTO:+0200
TZNAME:EET
DTSTART:20271031T010000
END:STANDARD
END:VTIMEZONE
BEGIN:VEVENT
DTSTART;TZID=Europe/Helsinki:20260201T133000
DTEND;TZID=Europe/Helsinki:20260201T163000
DTSTAMP:20260424T140621
CREATED:20260107T132722Z
LAST-MODIFIED:20260107T132722Z
UID:2782-1769952600-1769963400@www.drentseliteraireagenda.nl
SUMMARY:Café Paragraaf
DESCRIPTION:Welkom bij de allereerste editie van Café Paragraaf!  \nHoudt u van boeken\, bijzondere verhalen en de geur van vers papier? Kom dan naar de lancering van Café Paragraaf. Vier keer per jaar toveren de Bibliotheek\, The ReadShop en Museum Thijnhof het museum om tot hét ontmoetingspunt voor lezers en schrijvers. \nWe trappen af met het thema: “Van Drentse Bodem”. \nOntmoet de schrijvers \nDeze middag schuiven twee bijzondere auteurs van eigen bodem aan: \n\nMarion Bruinenberg: Reis mee in haar debuut Ontaard. Honderd jaar na haar overgrootvader trad zij in zijn voetsporen richting Canada. Een verhaal over migratie\, geschiedenis en de vraag: wie ben je in een ander land?\nJos Govaarts: Een ervaren verteller en lid van de Drentse SchrieversKring. Van historische novelles over de oorlog in Zweeloo tot spannende detectives uit de serie De Scalda Moorden.\n\nWat is er nog meer te beleven? \n\nKamer van de Poëzie: Laat u raken door de woorden van Carla Krüger\, Marja van Marjenburg en Roland van Balen.\nAmbacht in beeld: Jowan Remmig geeft doorlopend uitleg over de kunst van het boekbinden.\nLeeslounge & Boekverkoop: Snuffel tussen diverse thematafels (thrillers\, kunst\, Drenthe) of koop uw nieuwe lievelingsboek bij de stand van The ReadShop.\nVoor de jonge lezers: Er zijn kleurplaten\, boekjes en een spannende speurtocht door het museum.\n\nTussendoor kunt u genieten van de expositie Faces and Formations en serveren we heerlijke koffie\, thee en lekkers in ons café.
URL:https://www.drentseliteraireagenda.nl/evenement/cafe-paragraaf/
LOCATION:Museum Thijnhof\, Gasthuisstraat 2a\, Coevorden\, Drenthe\, 7741 HS\, Netherlands
CATEGORIES:Boekbespreking,Festival,Voorlezen
ATTACH;FMTTYPE=image/jpeg:https://www.drentseliteraireagenda.nl/wp-content/uploads/2026/01/Leescafe-1-scaled.jpg
ORGANIZER;CN="Caf%C3%A9 Paragraaf":MAILTO:e.dunlop@biblionetdrenthe.nl
END:VEVENT
END:VCALENDAR