BEGIN:VCALENDAR
VERSION:2.0
PRODID:-//Drentse Literaire Agenda - ECPv6.15.13//NONSGML v1.0//EN
CALSCALE:GREGORIAN
METHOD:PUBLISH
X-WR-CALNAME:Drentse Literaire Agenda
X-ORIGINAL-URL:https://www.drentseliteraireagenda.nl
X-WR-CALDESC:Evenementen voor Drentse Literaire Agenda
REFRESH-INTERVAL;VALUE=DURATION:PT1H
X-Robots-Tag:noindex
X-PUBLISHED-TTL:PT1H
BEGIN:VTIMEZONE
TZID:Europe/Helsinki
BEGIN:DAYLIGHT
TZOFFSETFROM:+0200
TZOFFSETTO:+0300
TZNAME:EEST
DTSTART:20250330T010000
END:DAYLIGHT
BEGIN:STANDARD
TZOFFSETFROM:+0300
TZOFFSETTO:+0200
TZNAME:EET
DTSTART:20251026T010000
END:STANDARD
BEGIN:DAYLIGHT
TZOFFSETFROM:+0200
TZOFFSETTO:+0300
TZNAME:EEST
DTSTART:20260329T010000
END:DAYLIGHT
BEGIN:STANDARD
TZOFFSETFROM:+0300
TZOFFSETTO:+0200
TZNAME:EET
DTSTART:20261025T010000
END:STANDARD
BEGIN:DAYLIGHT
TZOFFSETFROM:+0200
TZOFFSETTO:+0300
TZNAME:EEST
DTSTART:20270328T010000
END:DAYLIGHT
BEGIN:STANDARD
TZOFFSETFROM:+0300
TZOFFSETTO:+0200
TZNAME:EET
DTSTART:20271031T010000
END:STANDARD
END:VTIMEZONE
BEGIN:VEVENT
DTSTART;TZID=Europe/Helsinki:20260313T200000
DTEND;TZID=Europe/Helsinki:20260313T223000
DTSTAMP:20260424T154038
CREATED:20260218T091443Z
LAST-MODIFIED:20260218T091443Z
UID:2952-1773432000-1773441000@www.drentseliteraireagenda.nl
SUMMARY:De Literaire Hemel
DESCRIPTION:Annette Timmer en Joep bam Ruiten interviewen schrijvers over hun nieuwe boek. \nBenny Lindelauf\, veelgeprezen en bekroond schrijver van kinderboeken en jeugdromans\, komt nu met zijn eerste roman voor volwassenen. ‘Het licht tussen onze vingers’ is tegelijk tragisch en hilarisch. \nHans Katerberg en Rolf Mulder maakten een hervertelling en vertaling in het Drents van de wrede geschiedenis van Reynaert de Vos. Ze waarschuwen dat ‘Vals’ geen boek voor tere kinderzieltjes is: seks\, moord\, incest\, omkoperij en list en bedrog: het komt er allemaal in voor. \nSeran de Leede beschrijft in ‘De strijd tegen fascisme’ het activistische leven van Lie Alma (1909-1991). Als jonge onderwijzeres in de arme Drentse veenstreek werd zij geraakt door de schrijnende armoede en ongelijkheid\, wat haar tot het socialisme bracht. De opkomst van het fascisme in de jaren dertig radicaliseerde haar politieke betrokkenheid en leidde haar naar het communisme en de internationale vredesbeweging.\n \nPianist Maarten Koekkoek verzorgt de muzikale omlijsting.Boekhandel Van der Velde uit Assen is aanwezig met een stand. \n  \n 
URL:https://www.drentseliteraireagenda.nl/evenement/de-literaire-hemel-3/
LOCATION:De Amer Amen
ATTACH;FMTTYPE=image/jpeg:https://www.drentseliteraireagenda.nl/wp-content/uploads/2026/02/Benny-Lindelauf-RV-c-Guido-Bosua.jpg
ORGANIZER;CN="Stichting Literaire Activiteiten in Drenthe":MAILTO:info@slaid.nl
END:VEVENT
BEGIN:VEVENT
DTSTART;TZID=Europe/Helsinki:20260321T193000
DTEND;TZID=Europe/Helsinki:20260321T230000
DTSTAMP:20260424T154038
CREATED:20260114T142935Z
LAST-MODIFIED:20260208T193729Z
UID:2829-1774121400-1774134000@www.drentseliteraireagenda.nl
SUMMARY:BoekenFEST met Arthur Japin\, Annejet van der Zijl en Typhoon
DESCRIPTION:We sluiten de Boekenweek groots af met het BoekenFEST\, een sfeervol feest vol boeken\, verhalen en gezelligheid voor iedereen die van lezen houdt. \nDit jaar verwelkomen we drie bijzondere gasten: Typhoon\, Arthur Japin en Annejet van der Zijl. Zij worden geïnterviewd over hun boeken\, onder andere door Janine Abbring (bekend van o.a. Zomergasten). Zo krijg je een mooi kijkje in hun schrijverswereld. Natuurlijk kun je op deze avond ook boeken kopen én laten signeren. \nDaarnaast is er nog veel meer te doen\, zoals een creatieve workshop van Veronzinsels\, doe mee aan een literaire quiz en win leuke prijzen of maak een foto in onze photobooth als aandenken. \nLeden biblionet € 5 korting op toegangsprijs
URL:https://www.drentseliteraireagenda.nl/evenement/boekenfest/
LOCATION:De nieuwe Kolk Assen
CATEGORIES:Festival,Interview
ATTACH;FMTTYPE=image/jpeg:https://www.drentseliteraireagenda.nl/wp-content/uploads/2026/01/BF26-poster-image_675x1000-01.jpg
ORGANIZER;CN="De Nieuwe Kolk":MAILTO:contact@dnk.nl
END:VEVENT
BEGIN:VEVENT
DTSTART;TZID=Europe/Helsinki:20260322T140000
DTEND;TZID=Europe/Helsinki:20260322T160000
DTSTAMP:20260424T154038
CREATED:20260126T084312Z
LAST-MODIFIED:20260126T084312Z
UID:2878-1774188000-1774195200@www.drentseliteraireagenda.nl
SUMMARY:Facet ontvangt Ronald Giphart
DESCRIPTION:Bestsellerauteur Ronald Giphart komt naar Facet Emmen centrum voor een inspirerende lezing tijdens de Boekenweek. Het thema Generaties vormt het vertrekpunt voor een levendig\, herkenbaar en humoristisch verhaal over hoe onze tijdgeest telkens opnieuw wordt gevormd. \nGiphart staat bekend om zijn sprankelende stijl en scherpe observaties\, een garantie voor een middag vol inzicht en plezier. \nMis deze unieke kans niet om één van Nederlands meest geliefde schrijvers live te horen spreken! \nLocatie: Facet Emmen centrum\nKosten: Leden € 9\,00 Niet-leden € 12\,50
URL:https://www.drentseliteraireagenda.nl/evenement/facet-ontvangt-ronald-giphart/
LOCATION:Facet\, Noorderplein 101\, Emmen\, Drenthe\, 7811 MG\, Netherlands
ATTACH;FMTTYPE=image/jpeg:https://www.drentseliteraireagenda.nl/wp-content/uploads/2026/01/69368b10a309e.jpg
ORGANIZER;CN="Facet":MAILTO:klantenservice@facet-emmen.nl
END:VEVENT
BEGIN:VEVENT
DTSTART;TZID=Europe/Helsinki:20260324T200000
DTEND;TZID=Europe/Helsinki:20260324T220000
DTSTAMP:20260424T154038
CREATED:20260311T201139Z
LAST-MODIFIED:20260311T201139Z
UID:3048-1774382400-1774389600@www.drentseliteraireagenda.nl
SUMMARY:Michel Krielaars over 'Rivier van bloed'
DESCRIPTION:Dinsdag 24 maart organiseert boekhandel Het Logboek i.s.m. Podia Midden-Drenthe een lezing met Michel Krielaars over zijn nieuwste boek Rivier van bloed. Aan de hand van voorbeelden en verhalen van zijn inwoners laat Krielaars zien: de wortels van het Rusland van nu liggen in het verleden. \nKrielaars (1961) is chef Boeken van NRC Handelsblad en was daarvoor jarenlang correspondent in Rusland. Het hart van het land is de Wolga\, 3500 kilometer lang\, de bron van de ideeën en mythes die het land gevormd hebben tot wat het is: een imperiale macht die het uiteenvallen van zijn rijk in 1992 nog altijd niet accepteert. \nOm Rusland te ontrafelen reisde Michel Krielaars over en langs de Wolga op zoek naar juist die oorsprongsmythes. Zo spreken de vreselijke rooftochten van Ivan de Verschrikkelijke tot de verbeelding. Het is geen toeval dat er parallellen zijn met Poetins schrikbewind. \nFoto auteur: Merlijn Doomernik
URL:https://www.drentseliteraireagenda.nl/evenement/michel-krielaars-over-rivier-van-bloed/
LOCATION:De Klipper\, Zwiggelte\, Hoofdstraat 24\, Zwiggelte\, 9433 PC\, Netherlands
CATEGORIES:Interview
ATTACH;FMTTYPE=image/jpeg:https://www.drentseliteraireagenda.nl/wp-content/uploads/2026/03/Michel-Krielaars-Foto-Merlijn-Doomernik-1-scaled.jpg
ORGANIZER;CN="Stichting Podia Midden-Drenthe":MAILTO:info@podiamiddendrenthe.nl
END:VEVENT
BEGIN:VEVENT
DTSTART;TZID=Europe/Helsinki:20260329T143000
DTEND;TZID=Europe/Helsinki:20260329T170000
DTSTAMP:20260424T154038
CREATED:20251217T181607Z
LAST-MODIFIED:20260325T203802Z
UID:2690-1774794600-1774803600@www.drentseliteraireagenda.nl
SUMMARY:Meert Dialectmaond Middag
DESCRIPTION:Muziek in de streektaal van Broers Roo en poëzie van Aagje Blink en Suze Sanders
URL:https://www.drentseliteraireagenda.nl/evenement/meert-dialectmaond-middag-2/
LOCATION:Theaterschuur Linde\, Linderweg 4\, Linde\, 7925PB\, Netherlands
CATEGORIES:Voorlezen
ATTACH;FMTTYPE=image/jpeg:https://www.drentseliteraireagenda.nl/wp-content/uploads/2025/12/roo-web-1.jpg
END:VEVENT
BEGIN:VEVENT
DTSTART;TZID=Europe/Helsinki:20260409T193000
DTEND;TZID=Europe/Helsinki:20260409T213000
DTSTAMP:20260424T154038
CREATED:20260310T160019Z
LAST-MODIFIED:20260310T160019Z
UID:3037-1775763000-1775770200@www.drentseliteraireagenda.nl
SUMMARY:Gilles van der Loo bij Literatuurclubs Drenthe
DESCRIPTION:In de Waterstaatskerk in Bovensmilde gaat Coen Peppelenbos in gesprek met Gilles van der Loo over zijn boek Café Dorian. \nCafé Dorian is een liefdesverklaring aan het café als hart van een stad en buurt. Van der Loo weet waar hij over schrijft: hij heeft zelf ruim twintig jaar ervaring in alle denkbare functies in de Amsterdamse horeca. \nHeb je zelf een vraag voor Van der Loo? Dan is dit dé gelegenheid om die te stellen. Uiteraard signeert hij ook. Ook niet-deelnemers aan de Literatuurclubs Drenthe zijn welkom. \nHet interview begint om 19.30 uur. De deur is open vanaf 19.00 uur. \nWaterstaatskerk\, Hoofdweg 186\, Bovensmilde \nDe entreeprijs bedraagt €12\,50\, inclusief koffie/thee. Kaarten zijn verkrijgbaar via https://literatuurclubsdrenthe.nl
URL:https://www.drentseliteraireagenda.nl/evenement/gilles-van-der-loo-bij-literatuurclubs-drenthe/
LOCATION:Waterstaatskerk\, Bovensmilde\, Hoofdweg 186\, Bovensmilde\, Drenthe\, 9421 PD\, Netherlands
CATEGORIES:Interview
ATTACH;FMTTYPE=image/jpeg:https://www.drentseliteraireagenda.nl/wp-content/uploads/2026/03/Giles-van-der-Loo-2.jpeg
ORGANIZER;CN="Stichting Literatuurclubs Drenthe":MAILTO:info@literatuurclubsdrenthe.nl
END:VEVENT
BEGIN:VEVENT
DTSTART;TZID=Europe/Helsinki:20260410T200000
DTEND;TZID=Europe/Helsinki:20260410T223000
DTSTAMP:20260424T154038
CREATED:20260331T124956Z
LAST-MODIFIED:20260331T124956Z
UID:3182-1775851200-1775860200@www.drentseliteraireagenda.nl
SUMMARY:De Literaire Hemel
DESCRIPTION:Annette Timmer en Joep van Ruiten praten met Frank van Pamelen over ‘Hebba Nolla’\, een vrolijke ode aan de taal\, met Esther Sloots over haar debuutroman ‘Waar de suikerbieten groeien’\, gebaseerd op een gifmoord in Veenoord en met biograf Rick Honings over Nicolaas Beets (1814-1903)\, chroniqueur van de negentiende eeuw. Boekhandel Van der Velde Assen is aanwezig met een stand.
URL:https://www.drentseliteraireagenda.nl/evenement/de-literaire-hemel-4/
LOCATION:De Amer Amen
ATTACH;FMTTYPE=image/jpeg:https://www.drentseliteraireagenda.nl/wp-content/uploads/2026/03/AFFICHE-2026_APR-scaled.jpg
ORGANIZER;CN="Stichting Literaire Activiteiten in Drenthe":MAILTO:info@slaid.nl
END:VEVENT
BEGIN:VEVENT
DTSTART;TZID=Europe/Helsinki:20260426T143000
DTEND;TZID=Europe/Helsinki:20260426T170000
DTSTAMP:20260424T154038
CREATED:20251217T181949Z
LAST-MODIFIED:20251217T182347Z
UID:2695-1777213800-1777222800@www.drentseliteraireagenda.nl
SUMMARY:Corte en Consorte
DESCRIPTION:Ernst de Corte zingt de teksten van vader Jules de Corte
URL:https://www.drentseliteraireagenda.nl/evenement/corte-en-consorte/
LOCATION:Theaterschuur Linde\, Linderweg 4\, Linde\, 7925PB\, Netherlands
ATTACH;FMTTYPE=image/jpeg:https://www.drentseliteraireagenda.nl/wp-content/uploads/2025/12/resize_Corte-Consorten.jpg
END:VEVENT
BEGIN:VEVENT
DTSTART;TZID=Europe/Helsinki:20260513T193000
DTEND;TZID=Europe/Helsinki:20260513T210000
DTSTAMP:20260424T154038
CREATED:20260326T133301Z
LAST-MODIFIED:20260326T160828Z
UID:3147-1778700600-1778706000@www.drentseliteraireagenda.nl
SUMMARY:Lezing: Kader Abdolah
DESCRIPTION:Een avond vol verhalen\, geschiedenis en literatuur\nOp woensdagavond 13 mei 2026 verwelkomt Bibliotheek Sleen een bijzondere gast: schrijver Kader Abdolah. Tijdens een inspirerende lezing neemt hij je mee door zijn indrukwekkende oeuvre en vertelt hij over zijn meest recente boek ‘Ze vliegen nog altijd over de Schie’. \nKader Abdolah\, geboren in Iran\, moest zijn vaderland ontvluchten om politieke redenen. In Nederland vond hij een nieuw thuis én een nieuwe taal\, waarin hij uitgroeide tot een van de meest geliefde en gelauwerde schrijvers van ons land. Zijn werk\, waarin hij oosterse verteltradities verweeft met westerse literatuur\, raakt lezers keer op keer. \nAbdolah’s literaire en maatschappelijke bijdragen zijn erkend met diverse onderscheidingen waaronder de AKO Literatuurprijs.\nLaat je meeslepen door de kracht van verhalen en ontmoet een van de grote stemmen van de Nederlandse literatuur. \nMis deze bijzondere avond niet!
URL:https://www.drentseliteraireagenda.nl/evenement/lezing-kader-abdolah/
LOCATION:Bibliotheek Sleen\, Westrupstraat 23A\, Sleen\, Drenthe\, 7841AZ\, Netherlands
CATEGORIES:Boekbespreking,Boekpresentatie
ATTACH;FMTTYPE=image/jpeg:https://www.drentseliteraireagenda.nl/wp-content/uploads/2026/03/a0fd261d-05fd-4771-ac82-04226b15204c-scaled.jpg
ORGANIZER;CN="Bibliotheek Sleen":MAILTO:e.dunlop@biblionetdrenthe.nl
END:VEVENT
BEGIN:VEVENT
DTSTART;TZID=Europe/Helsinki:20260519T200000
DTEND;TZID=Europe/Helsinki:20260519T220000
DTSTAMP:20260424T154038
CREATED:20260421T140931Z
LAST-MODIFIED:20260421T140931Z
UID:3292-1779220800-1779228000@www.drentseliteraireagenda.nl
SUMMARY:Lezing Mark H. Stokmans over 'De Byzantijn'
DESCRIPTION:Dinsdag 19 mei organiseert boekhandel Het Logboek i.s.m. Podia Midden-Drenthe een lezing door Mark H. Stokmans. Na Land van echo’s en Spiegeldagen is De Byzantijn zijn derde roman die op 7 mei verschijnt. De Byzantijn is een literair epos over liefde en moed\, schoonheid en geweld in 20ste-eeuws Venetië. \nAls de flamboyante Venetiaan Alessandro Apollinare Ortolani zich geconfronteerd ziet met zijn sterfelijkheid\, vraagt hij de Nederlandse schrijver Ruben naar Venetië te komen om zijn levensverhaal op te tekenen. Soms zijn het onwaarschijnlijke en haast onmogelijke verhalen\, waardoor Ruben zich gaandeweg begint zich af te vragen waar hij eigenlijk naar luistert: een waarheidsgetrouwe autobiografie of een bij elkaar gefantaseerd heldenepos? \n 
URL:https://www.drentseliteraireagenda.nl/evenement/lezing-mark-h-stokmans-over-de-byzantijn/
LOCATION:De Klipper\, Zwiggelte\, Hoofdstraat 24\, Zwiggelte\, 9433 PC\, Netherlands
CATEGORIES:Interview
ATTACH;FMTTYPE=image/jpeg:https://www.drentseliteraireagenda.nl/wp-content/uploads/2026/04/Stokmans-Mark_©-Frank-Ruiter_2025-02-scaled.jpg
ORGANIZER;CN="Stichting Podia Midden-Drenthe":MAILTO:info@podiamiddendrenthe.nl
END:VEVENT
BEGIN:VEVENT
DTSTART;TZID=Europe/Helsinki:20260628T110000
DTEND;TZID=Europe/Helsinki:20260628T173000
DTSTAMP:20260424T154038
CREATED:20260410T112629Z
LAST-MODIFIED:20260410T112629Z
UID:3233-1782644400-1782667800@www.drentseliteraireagenda.nl
SUMMARY:Zomerzinnen
DESCRIPTION:Kom zomerse verhalen proeven bij De Proef. \nZondag 28 juni is festival Zomerzinnen in Frederiksoord.De Proef is de uitgelezen plek waar lezers en liefhebbers\, landelijke en regionale schrijvers\, jonge talenten en gelauwerde makers elkaar ontmoeten. Op verschillende plaatsen\, van kas tot Kolonieschooltje\, zijn optredens. Verder worden rondleidingen door de tuin gegeven. En is er sfeerverhogende muziek. \nZomerzinnen geeft zin aan je zomer!
URL:https://www.drentseliteraireagenda.nl/evenement/zomerzinnen/
LOCATION:De Proef\, Majoor van Swietenlaan 15\, Frederiksoord\, Drenthe\, 8382CE\, Netherlands
CATEGORIES:Festival
ATTACH;FMTTYPE=image/jpeg:https://www.drentseliteraireagenda.nl/wp-content/uploads/2026/04/Vooraankondiging-ZZ-2026-scaled.jpg
ORGANIZER;CN="Stichting Literaire Activiteiten in Drenthe":MAILTO:info@slaid.nl
END:VEVENT
END:VCALENDAR