BEGIN:VCALENDAR
VERSION:2.0
PRODID:-//Drentse Literaire Agenda - ECPv6.15.13//NONSGML v1.0//EN
CALSCALE:GREGORIAN
METHOD:PUBLISH
X-WR-CALNAME:Drentse Literaire Agenda
X-ORIGINAL-URL:https://www.drentseliteraireagenda.nl
X-WR-CALDESC:Evenementen voor Drentse Literaire Agenda
REFRESH-INTERVAL;VALUE=DURATION:PT1H
X-Robots-Tag:noindex
X-PUBLISHED-TTL:PT1H
BEGIN:VTIMEZONE
TZID:Europe/Helsinki
BEGIN:DAYLIGHT
TZOFFSETFROM:+0200
TZOFFSETTO:+0300
TZNAME:EEST
DTSTART:20240331T010000
END:DAYLIGHT
BEGIN:STANDARD
TZOFFSETFROM:+0300
TZOFFSETTO:+0200
TZNAME:EET
DTSTART:20241027T010000
END:STANDARD
BEGIN:DAYLIGHT
TZOFFSETFROM:+0200
TZOFFSETTO:+0300
TZNAME:EEST
DTSTART:20250330T010000
END:DAYLIGHT
BEGIN:STANDARD
TZOFFSETFROM:+0300
TZOFFSETTO:+0200
TZNAME:EET
DTSTART:20251026T010000
END:STANDARD
BEGIN:DAYLIGHT
TZOFFSETFROM:+0200
TZOFFSETTO:+0300
TZNAME:EEST
DTSTART:20260329T010000
END:DAYLIGHT
BEGIN:STANDARD
TZOFFSETFROM:+0300
TZOFFSETTO:+0200
TZNAME:EET
DTSTART:20261025T010000
END:STANDARD
BEGIN:DAYLIGHT
TZOFFSETFROM:+0200
TZOFFSETTO:+0300
TZNAME:EEST
DTSTART:20270328T010000
END:DAYLIGHT
BEGIN:STANDARD
TZOFFSETFROM:+0300
TZOFFSETTO:+0200
TZNAME:EET
DTSTART:20271031T010000
END:STANDARD
END:VTIMEZONE
BEGIN:VEVENT
DTSTART;TZID=Europe/Helsinki:20260109T200000
DTEND;TZID=Europe/Helsinki:20260109T223000
DTSTAMP:20260424T194622
CREATED:20251202T183710Z
LAST-MODIFIED:20260108T123119Z
UID:2569-1767988800-1767997800@www.drentseliteraireagenda.nl
SUMMARY:De Literaire Hemel (geannuleerd wegens winters weer)
DESCRIPTION:Joep van Ruiten en Annette Timmer interviewen iedere tweede vrijdag van de maand van oktober tot mei drie schrijvers over hun werk.
URL:https://www.drentseliteraireagenda.nl/evenement/literaire-hemel/
LOCATION:De Amer Amen
CATEGORIES:Interview
ATTACH;FMTTYPE=image/jpeg:https://www.drentseliteraireagenda.nl/wp-content/uploads/2025/12/Logo-DLH-kaal-180.jpeg
END:VEVENT
BEGIN:VEVENT
DTSTART;TZID=Europe/Helsinki:20251228T133000
DTEND;TZID=Europe/Helsinki:20251228T173000
DTSTAMP:20260424T194622
CREATED:20251201T203435Z
LAST-MODIFIED:20251207T175132Z
UID:2552-1766928600-1766943000@www.drentseliteraireagenda.nl
SUMMARY:Winterzinnen
DESCRIPTION:Stichting Literaire Activiteiten in Drenthe brengt schrijvers\, muzikanten en publiek bij elkaar op de 6e editie van Winterzinnen. Intieme verhalen\, humoristische teksten\, sfeervolle muziek en onverwachte ontmoetingen.
URL:https://www.drentseliteraireagenda.nl/evenement/winterzinnen/
LOCATION:Buitencentrum De Poort\, Kloosterstraat 12\, Ruinen\, 7963AH\, Netherlands
CATEGORIES:Festival
ATTACH;FMTTYPE=image/png:https://www.drentseliteraireagenda.nl/wp-content/uploads/2025/12/winterzinnen-logo-Klein.png
ORGANIZER;CN="Stichting Literaire Activiteiten in Drenthe":MAILTO:info@slaid.nl
END:VEVENT
BEGIN:VEVENT
DTSTART;TZID=Europe/Helsinki:20251212T200000
DTEND;TZID=Europe/Helsinki:20251212T230000
DTSTAMP:20260424T194622
CREATED:20251124T202425Z
LAST-MODIFIED:20251205T133858Z
UID:2489-1765569600-1765580400@www.drentseliteraireagenda.nl
SUMMARY:De Literaire Hemel (uitverkocht)
DESCRIPTION:Joep van Ruiten en Annette Timmer interviewen iedere tweede vrijdag van de maand van oktober tot mei drie schrijvers over hun werk.
URL:https://www.drentseliteraireagenda.nl/evenement/de-literaire-hemel/
LOCATION:De Amer Amen
CATEGORIES:Interview
ATTACH;FMTTYPE=image/gif:https://www.drentseliteraireagenda.nl/wp-content/uploads/2025/11/deLiteraireHemel.gif
END:VEVENT
END:VCALENDAR